BEGIN:VCALENDAR
VERSION:2.0
PRODID:-//Bitcoin Foundation Puglia - ECPv5.16.1.1//NONSGML v1.0//EN
CALSCALE:GREGORIAN
METHOD:PUBLISH
X-WR-CALNAME:Bitcoin Foundation Puglia
X-ORIGINAL-URL:https://bitcoin-puglia.org
X-WR-CALDESC:Eventi per Bitcoin Foundation Puglia
BEGIN:VTIMEZONE
TZID:Europe/Paris
BEGIN:DAYLIGHT
TZOFFSETFROM:+0100
TZOFFSETTO:+0200
TZNAME:CEST
DTSTART:20170326T010000
END:DAYLIGHT
BEGIN:STANDARD
TZOFFSETFROM:+0200
TZOFFSETTO:+0100
TZNAME:CET
DTSTART:20171029T010000
END:STANDARD
END:VTIMEZONE
BEGIN:VEVENT
DTSTART;TZID=Europe/Paris:20170331T153000
DTEND;TZID=Europe/Paris:20170331T183000
DTSTAMP:20260422T104612
CREATED:20170329T124347Z
LAST-MODIFIED:20170329T124347Z
UID:353-1490974200-1490985000@bitcoin-puglia.org
SUMMARY:Criptovalute per professionisti: inquadramento civilistico.
DESCRIPTION:CRIPTOVALUTE PER PROFESSIONISTI: A BARI UN CICLO DI CONVEGNI ESPLORATIVI DEGLI ASPETTI CIVILI\,PENALI E FISCALI DEDICATO PRINCIPALMENTE AD AVVOCATI E COMMERCIALISTI NELLE DATE 31 MARZO\, 07 APRILE\, 05 GIUGNO 2017 \nBitcoin Foundation Puglia in collaborazione con Il Commentario del Merito presentano “criptovalute per professionisti”\, ciclo di convegni conoscitivi ed esplorativi in materia di criptovalute. Il trittico di convegni dal taglio innovativo tanto dal punto di vista legale quanto pratico-fiscale\, ha ottenuto il Patrocinio dell’Università degli Studi di Bari A. Moro e del Consiglio dell’Ordine degli Avvocati di Bari.\nI vari aspetti civili\, penali e fiscali dell’innovativa materia saranno trattati in tre giornate distinte grazie all’intervento di professionisti esperti del settore\, Docenti universitari nonché dalla lectio magistralis del Magnifico Rettore Antonio Felice Uricchio\, tributarista. \nIl ciclo “criptovalute per professionisti” ha quale finalità quella di informare ed aggiornare i professionisti\, con particolare riguardo per la categoria degli avvocati\, circa l’inquadramento civilistico\, penalistico e fiscale dell’utilizzo della criptovaluta anche in considerazione dell’incremento a livello internazionale di nuove imprese con capitale sociale in criptovaluta  ovvero di realtà imprenditoriali nuove o anche già avviate e consolidate che decidono di aprirsi alla nuova valuta digitale decentralizzata\, accettando il pagamento dei propri servizi in bitcoin. \nProprio per questo il ciclo di convegni sarà calendarizzato nelle seguenti modalità e tratterà i seguenti argomenti: \n31 Marzo 2017 ore 15.30\, Giurisprudenza\, UNIBA\, Aula Contento (Sala Lauree) INQUADRAMENTO CIVILISTICO\, \nSaluti: Avv. Antonio Giorgino (Commissario Straordinario Ord. Avv. Bari)\, intervengono: Avv. Giuseppe Grisorio – Presidente Bitcoin Foundation Puglia (il bitcoin: cosa è. Le attività di cambiavalute tradizionali e virtuali)\, Prof. Giuseppe Pirlo – Referente UNIBA per Agenda Digitale e Smart City (Proof-of-Work e Blockchain)\, Prof. Francesco Moliterni – Prof. Ass. in Diritto dell’economia Uniba (Bitcoin come moneta di pagamento. il sistema di circolazione: confronto con  la rimessa di denaro)\, Avv. Romina Centrone – Vicepresidente Bitcoin Foundation Puglia (La criptovaluta per l’ordinamento italiano) – Avv. Augusto Sebastio – Prof. in International Negotiation Euromediterranean University (Portorose- Slovenia) (Pagamenti elettronici e normativa antiriciclaggio. Inquadramento nazionale ed europeo).
URL:https://bitcoin-puglia.org/?tribe_events=criptovalute-professionisti-inquadramento-civilistico
END:VEVENT
END:VCALENDAR