BEGIN:VCALENDAR
VERSION:2.0
PRODID:-//Bitcoin Foundation Puglia - ECPv5.16.1.1//NONSGML v1.0//EN
CALSCALE:GREGORIAN
METHOD:PUBLISH
X-WR-CALNAME:Bitcoin Foundation Puglia
X-ORIGINAL-URL:http://bitcoin-puglia.org
X-WR-CALDESC:Eventi per Bitcoin Foundation Puglia
BEGIN:VTIMEZONE
TZID:Europe/Paris
BEGIN:DAYLIGHT
TZOFFSETFROM:+0100
TZOFFSETTO:+0200
TZNAME:CEST
DTSTART:20190331T010000
END:DAYLIGHT
BEGIN:STANDARD
TZOFFSETFROM:+0200
TZOFFSETTO:+0100
TZNAME:CET
DTSTART:20191027T010000
END:STANDARD
END:VTIMEZONE
BEGIN:VEVENT
DTSTART;TZID=Europe/Paris:20190119T180000
DTEND;TZID=Europe/Paris:20190119T235900
DTSTAMP:20260420T054552
CREATED:20190207T221613Z
LAST-MODIFIED:20190207T221613Z
UID:906-1547920800-1547942340@bitcoin-puglia.org
SUMMARY:Primo Cryptoaperitivo dell'anno!
DESCRIPTION:Ci aspetta il Primo Cryptoaperitivo dell’anno! Anche nel 2019 riproporremo l’evento che ha permesso alla community pugliese di “uscire” dalla chat Telegram e conoscersi dal vivo! \nPronti per parlare di crypto\, scambiare opinioni sulle novità in materia di Blockchain\, condividere idee e tanto altro? \nVi aspettiamo sabato 19 gennaio\, presso KGB – Katzuti Garage Bari\, in via Salvatore Cognetti n. 40 (Bari)! \nN.B.: è obbligatorio confermare la propria presenza selezionando l’icona “parteciperò” sulla pagina Facebook dell’evento. \nIl costo dell’aperitivo è di 15 euro a persona\, comprensivi di bevanda e aperitivo rinforzato! \nCi vediamo tra pochi giorni!
URL:http://bitcoin-puglia.org/?tribe_events=primo-cryptoaperitivo-dellanno
LOCATION:KGB – Katzuti Garage Bari\, Via Salvatore Cognetti 40\, Bari\, BA\, 70121\, Italia
ATTACH;FMTTYPE=image/jpeg:http://bitcoin-puglia.org/wp-content/uploads/2019/02/19-01-2019-Cryptoaperitivo-Locandina.jpg
END:VEVENT
END:VCALENDAR