BEGIN:VCALENDAR
VERSION:2.0
PRODID:-//Bitcoin Foundation Puglia - ECPv5.16.1.1//NONSGML v1.0//EN
CALSCALE:GREGORIAN
METHOD:PUBLISH
X-WR-CALNAME:Bitcoin Foundation Puglia
X-ORIGINAL-URL:http://bitcoin-puglia.org
X-WR-CALDESC:Eventi per Bitcoin Foundation Puglia
BEGIN:VTIMEZONE
TZID:Europe/Paris
BEGIN:DAYLIGHT
TZOFFSETFROM:+0100
TZOFFSETTO:+0200
TZNAME:CEST
DTSTART:20190331T010000
END:DAYLIGHT
BEGIN:STANDARD
TZOFFSETFROM:+0200
TZOFFSETTO:+0100
TZNAME:CET
DTSTART:20191027T010000
END:STANDARD
END:VTIMEZONE
BEGIN:VEVENT
DTSTART;TZID=Europe/Paris:20190103T180000
DTEND;TZID=Europe/Paris:20190103T235900
DTSTAMP:20260420T040500
CREATED:20190207T215915Z
LAST-MODIFIED:20190207T220037Z
UID:896-1546538400-1546559940@bitcoin-puglia.org
SUMMARY:Blockchain e Dintorni e Buon Compleanno Bitcoin!
DESCRIPTION:Giovedì 3 gennaio 2019\, in occasione del settimo Meetup gratuito “Blockchain e dintorni”\, parleremo della storia di Bitcoin! \nA partire dalle ore 18.00\, presso auLAB\, ripercorreremo le origini del protocollo di cui abbiamo tanto sentito parlare\, soprattutto negli ultimi tempi. \nTerminato l’incontro\, alle ore 21.00\, ci dirigeremo verso Piazza del Ferrarese per festeggiare\, in concomitanza con tutte le altre piazze italiane\, il decimo anniversario della prima transazione in bitcoin! \nL’iscrizione\nL’evento è gratuito. Puoi iscriverti QUI. \nChe cos’è questo meetup?\nBlockchain e dintorni è un incontro fisso mensile ogni primo Giovedì del Mese\, presso l’HACKspace X di auLAB in collaborazione con Bitcoin Foundation Puglia. Per parlare di innovazione e possibili utilizzi concreti delle tecnologie basate su blockchain. \nCall for proposals\nCome proporre un proprio intervento ? Sul gruppo FB ogni mese ci sarà una “call for proposal”. Con un semplice commento si può proporre un’argomento\, l’argomento piò votato coi like verrà presentato all’incontro successivo.
URL:http://bitcoin-puglia.org/?tribe_events=meetup-blockchain-e-dintorni-e-buon-compleanno-bitcoin
LOCATION:auLAB – Hack-space X\, Strada San Giorgio Martire\, 2D\, Bari\, BA\, 70124\, Italia
ATTACH;FMTTYPE=image/jpeg:http://bitcoin-puglia.org/wp-content/uploads/2019/02/03-01-2019-Blockchain-e-Dintorni.jpg
END:VEVENT
END:VCALENDAR