BEGIN:VCALENDAR
VERSION:2.0
PRODID:-//Bitcoin Foundation Puglia - ECPv5.16.1.1//NONSGML v1.0//EN
CALSCALE:GREGORIAN
METHOD:PUBLISH
X-WR-CALNAME:Bitcoin Foundation Puglia
X-ORIGINAL-URL:http://bitcoin-puglia.org
X-WR-CALDESC:Eventi per Bitcoin Foundation Puglia
BEGIN:VTIMEZONE
TZID:Europe/Paris
BEGIN:DAYLIGHT
TZOFFSETFROM:+0100
TZOFFSETTO:+0200
TZNAME:CEST
DTSTART:20200329T010000
END:DAYLIGHT
BEGIN:STANDARD
TZOFFSETFROM:+0200
TZOFFSETTO:+0100
TZNAME:CET
DTSTART:20201025T010000
END:STANDARD
END:VTIMEZONE
BEGIN:VEVENT
DTSTART;TZID=Europe/Paris:20200111T103000
DTEND;TZID=Europe/Paris:20200111T123000
DTSTAMP:20260421T193529
CREATED:20200108T135001Z
LAST-MODIFIED:20200108T135001Z
UID:1301-1578738600-1578745800@bitcoin-puglia.org
SUMMARY:MASTERING Blockchain
DESCRIPTION:Sabato 11 gennaio 2020 i ragazzi delle classi di informatica dell’Istituto tecnico Industriale “G. Ferraris” incontrano c/o la sede centrale dell’istituto l’associazione Bitcoin Foundation Puglia per affrontare il tema caldo della Blockchain. \nPromotori dell’evento il dirigente scolastico Luigi Melpignano in qualità di rappresentante dell’intero corpo docente dell’IISS e l’associazione Bitcoin Foundation Puglia che dal 2016 lavora sul territorio come unica realtà del sud Italia per formare e informare circa l’innovazione tecnologica rappresentata dalla blockchain e dalle criptovalute. \nNel corso di questi anni la Bitcoin Foundation Puglia ha organizzato il primo Short Master in Italia in “Criptovalute e Bitcoin” in collaborazione con l’Università degli Studi di Bari A. Moro e preso parte alla Camera dei Deputati con la conferenza “Blockchain\, tra Università e ricerca” nel gennaio 2018. Nel 2019 ha co-organizzato sulla città di Bari del TEDx Bari Salon dal tema “Blockchain: a decentralized revolution” e incontrato gli studenti della Federico II di Napoli per una Masterclass dal titolo “Criptovalute e Blockchain”. \nL’evento vuole fornire informazioni di primo livello utili ad una essenziale ma esaustiva comprensione della tecnologia Blockchain in ambito tecnico/informatico. Saranno affrontate le caratteristiche della blockchain come struttura dati\, le logiche e il network che la sostiene. A tutti i partecipanti sarà proposta una demo online relativa alla blockchain\, prestando particolare attenzione alla blockchain di Bitcoin e le altre altcoin.
URL:http://bitcoin-puglia.org/?tribe_events=mastering-blockchain
LOCATION:IISS “Ferraris”\, Molfetta\, via Togliatti\, 4\, Molfetta\, 70056\, Italia
CATEGORIES:Convegno
ATTACH;FMTTYPE=image/png:http://bitcoin-puglia.org/wp-content/uploads/2020/01/Immagine-e1578491326311.png
END:VEVENT
END:VCALENDAR