BEGIN:VCALENDAR
VERSION:2.0
PRODID:-//Bitcoin Foundation Puglia - ECPv5.16.1.1//NONSGML v1.0//EN
CALSCALE:GREGORIAN
METHOD:PUBLISH
X-WR-CALNAME:Bitcoin Foundation Puglia
X-ORIGINAL-URL:http://bitcoin-puglia.org
X-WR-CALDESC:Eventi per Bitcoin Foundation Puglia
BEGIN:VTIMEZONE
TZID:Europe/Paris
BEGIN:DAYLIGHT
TZOFFSETFROM:+0100
TZOFFSETTO:+0200
TZNAME:CEST
DTSTART:20190331T010000
END:DAYLIGHT
BEGIN:STANDARD
TZOFFSETFROM:+0200
TZOFFSETTO:+0100
TZNAME:CET
DTSTART:20191027T010000
END:STANDARD
END:VTIMEZONE
BEGIN:VEVENT
DTSTART;TZID=Europe/Paris:20191127T120000
DTEND;TZID=Europe/Paris:20191127T140000
DTSTAMP:20260421T144858
CREATED:20191109T211724Z
LAST-MODIFIED:20191114T200616Z
UID:1265-1574856000-1574863200@bitcoin-puglia.org
SUMMARY:Masterclass: Cryptovalute e Blockchain\, nascita ed evoluzione.
DESCRIPTION:Bitcoin Foundation Puglia in collaborazione con gli amici di Cultura Digitale si sposta oltre i confini regionali per incontrare studenti\, laureandi\, laureati e  docenti presso la Facoltà di Economia Università “FEDERICO II” di Napoli. \nL’evento si propone di formare e informare studenti universitari in ambito Crypto. Si vogliono analizzare la nascita e l’evoluzione dell’intero settore crypto e le varie implicazioni che la loro adozione potrebbe apportare in ambito economico e finanziario. \nPROGRAMMA – start ore 12.00\n\n\nIntroduce la Prof.ssa Cristina Mele – Governo ed etica d’impresa\n\n\n\n\n\n\nLE MONETE VIRTUALI NELL’ERA DEL CAPITALISMO\, IL BITCOIN – Riccardo Fucile\n\n\n\n\n\n\n\n\nLA TECNOLOGIA BLOCKCHAIN – Tommaso Coppola\n\n\n\n\n\n\n\n\n\nBITCOIN: VANTAGGI\, BARRIERE E CASI D’USO – Riccardo Fallacara BFP\n\n\n\n\n\n\n\n\nBLOCKCHAIN E CRYPTOVALUTE: RICONOSCERE IL VALORE E IDENTIFICARE LE TRUFFE – Giuseppe Olivieri BFP
URL:http://bitcoin-puglia.org/?tribe_events=masterclass-cryptovalute-e-blockchain-nascita-ed-evoluzione
LOCATION:Università Federico II\, Napoli\, Italia
CATEGORIES:Convegno
ATTACH;FMTTYPE=image/jpeg:http://bitcoin-puglia.org/wp-content/uploads/2019/11/76966978_155423199187771_5197834756661706752_o.jpg
END:VEVENT
END:VCALENDAR