BEGIN:VCALENDAR
VERSION:2.0
PRODID:-//Bitcoin Foundation Puglia - ECPv5.16.1.1//NONSGML v1.0//EN
CALSCALE:GREGORIAN
METHOD:PUBLISH
X-WR-CALNAME:Bitcoin Foundation Puglia
X-ORIGINAL-URL:http://bitcoin-puglia.org
X-WR-CALDESC:Eventi per Bitcoin Foundation Puglia
BEGIN:VTIMEZONE
TZID:Europe/Paris
BEGIN:DAYLIGHT
TZOFFSETFROM:+0100
TZOFFSETTO:+0200
TZNAME:CEST
DTSTART:20190331T010000
END:DAYLIGHT
BEGIN:STANDARD
TZOFFSETFROM:+0200
TZOFFSETTO:+0100
TZNAME:CET
DTSTART:20191027T010000
END:STANDARD
END:VTIMEZONE
BEGIN:VEVENT
DTSTART;TZID=Europe/Paris:20191113T083000
DTEND;TZID=Europe/Paris:20191113T120000
DTSTAMP:20260421T113828
CREATED:20191028T164931Z
LAST-MODIFIED:20191109T211757Z
UID:1221-1573633800-1573646400@bitcoin-puglia.org
SUMMARY:Blockchain: the way to change our point of view
DESCRIPTION:In collaborazione con il Politecnico di Bari\, mercoledì 13 novembre presso l’aula 7 alle ore 8.30 Bitcoin Foundation Puglia incontra studenti\, laureandi\, laureati e docenti in un seminario a tema Blockchain.\nInterverranno il Prof. Giuseppe Mastronardi\, docente di Information Systems Security e Privacy del Politecnico di Bari e Riccardo Fallacara in qualità di fondatore e membro direttivo di BFP.\nIngresso libero..\n#bfp #poliba #blockchain #alezionediblockchain
URL:http://bitcoin-puglia.org/?tribe_events=masterclass
LOCATION:Politecnico di Bari\, Bari\, Italia
CATEGORIES:Convegno
ATTACH;FMTTYPE=image/jpeg:http://bitcoin-puglia.org/wp-content/uploads/2019/10/poliba.jpg
END:VEVENT
END:VCALENDAR