BEGIN:VCALENDAR
VERSION:2.0
PRODID:-//Bitcoin Foundation Puglia - ECPv5.16.1.1//NONSGML v1.0//EN
CALSCALE:GREGORIAN
METHOD:PUBLISH
X-WR-CALNAME:Bitcoin Foundation Puglia
X-ORIGINAL-URL:http://bitcoin-puglia.org
X-WR-CALDESC:Eventi per Bitcoin Foundation Puglia
BEGIN:VTIMEZONE
TZID:Europe/Paris
BEGIN:DAYLIGHT
TZOFFSETFROM:+0100
TZOFFSETTO:+0200
TZNAME:CEST
DTSTART:20180325T010000
END:DAYLIGHT
BEGIN:STANDARD
TZOFFSETFROM:+0200
TZOFFSETTO:+0100
TZNAME:CET
DTSTART:20181028T010000
END:STANDARD
END:VTIMEZONE
BEGIN:VEVENT
DTSTART;TZID=Europe/Paris:20180928T203000
DTEND;TZID=Europe/Paris:20180928T223000
DTSTAMP:20260419T173114
CREATED:20180928T111523Z
LAST-MODIFIED:20180930T135329Z
UID:749-1538166600-1538173800@bitcoin-puglia.org
SUMMARY:I Bitcoin\, la nuova frontiera della finanza?
DESCRIPTION:Si terrà venerdì 28 settembre\, alle ore 20:30\, presso l’Hotel Mercure Villa Romanazzi Carducci di Bari il seminario sulla nuova frontiera della finanza. Dell’evento parlano norbaongline.it\, ilsole24ore.com e baritoday.it. \nLa conferenza è stata organizzata dal Rotaract Club Bari Agorà in collaborazione con il Rotaract Club Bari.\nLe associazioni rotaractiane hanno invitato a relazionare gli avvocati Giuseppe Grisorio e Romina Centrone\, rispettivamente Presidente e Vicepresidente della Bitcoin Fondation Puglia che rappresenta\, oramai\, una realtà del Sud Italia intensamente attiva nella formazione ed informazione culturale riguardante le valute digitali decentralizzate\, le cosidette criptovalute. \n  \nInterventi\n\nAvv. Giuseppe Grisorio (Presidente Bitcoin Foundation Puglia)\nAvv. Romina Centrone (Vicepresidente Bitcoin Foundation Puglia)\nAvv. Carlo “JR” Ciminiello (Avvocato tributarista – Prefetto “Rotaract Club Bari Agora”)\nDott. Francesco Clarizio (Advisor A.M.U. Investments SIM S.P.A. – Presidente “Rotaract Club Bari”)\nAvv. Paolo Iannone (Vicepresidente “Rotaract Club Bari Agora”)\n\n  \nLa partecipazione al seminario è aperto a tutta la cittadinanza con riconoscimento di tre crediti formativi da parte dell’Ordine degli Avvocati di Bari ai propri iscritti.
URL:http://bitcoin-puglia.org/?tribe_events=i-bitcoin-la-nuova-frontiera-della-finanza
LOCATION:Villa Romanazzi Carducci\, Via Giuseppe Capruzzi\, 326\, Bari\, 70124\, Italia
ATTACH;FMTTYPE=image/jpeg:http://bitcoin-puglia.org/wp-content/uploads/2018/09/Locandina_Rotaract_28-09-2018.jpg
END:VEVENT
END:VCALENDAR