BEGIN:VCALENDAR
VERSION:2.0
PRODID:-//Bitcoin Foundation Puglia - ECPv5.16.1.1//NONSGML v1.0//EN
CALSCALE:GREGORIAN
METHOD:PUBLISH
X-WR-CALNAME:Bitcoin Foundation Puglia
X-ORIGINAL-URL:http://bitcoin-puglia.org
X-WR-CALDESC:Eventi per Bitcoin Foundation Puglia
BEGIN:VTIMEZONE
TZID:Europe/Paris
BEGIN:DAYLIGHT
TZOFFSETFROM:+0100
TZOFFSETTO:+0200
TZNAME:CEST
DTSTART:20190331T010000
END:DAYLIGHT
BEGIN:STANDARD
TZOFFSETFROM:+0200
TZOFFSETTO:+0100
TZNAME:CET
DTSTART:20191027T010000
END:STANDARD
END:VTIMEZONE
BEGIN:VEVENT
DTSTART;VALUE=DATE:20190919
DTEND;VALUE=DATE:20190922
DTSTAMP:20260421T043616
CREATED:20190903T185403Z
LAST-MODIFIED:20190926T144811Z
UID:1070-1568851200-1569110399@bitcoin-puglia.org
SUMMARY:HEROES meet in Maratea
DESCRIPTION:TIME LAPSE – ECONOMIE IN MOVIMENTO TRA SPAZIO E TEMPO\, questo il tema di #Heroes\, il festival dell’innovazione più importante del sud Italia! In questa edizione si vuole capire come il progresso tecnologico ha modificato in modo positivo o negativo il nostro rapporto con il tempo e con lo spazio. \nHeroes è un punto di riferimento per gli imprenditori di oggi e di domani\, per i giovani startupper\, per chi ha bisogno di idee e stimoli\, di nuove collaborazioni\,  di sentirsi parte di una community ispirata e attiva \n#noicisaremo tra gli #speaker dell’evento con Riccardo FALLACARA \n#heroes meet in MARATEA 19-21 SETTEMBRE 2019 \n#heroes2019 #bitcoinfoundationpuglia #bfp \nTIMELAPSE: IL TEMPO E LE AZIENDE\, questo il titolo della tavola rotonda di giovedi 19 settembre ore 17:30 – 18:30 a cui Riccardo FALLACARA parteciperà come speaker! \n\nIl tempo può essere considerato una variabile delle scelte imprenditoriali? Cosa rallenta un’impresa e come evitarlo? E\, infine\, quanto i cambiamenti in termini di innovazione delle aziende incidono sulle abitudini dei consumatori/clienti? A queste domande daremo risposte in un tavolo di lavoro sulla risorsa meno tangibile ma più concreta che un’azienda possa avere: il tempo. \nInterverranno: Paolo di Bernardo\, Vincenzo Filetti\, Riccardo Fallacara\, Maura Satta Flores\, Antonio Romano \nProgramma completo dell’evento \n\n		\n		\n			\n				\n			\n				\n				Location per Heroes\, meet in Maratea\n				\n			\n				\n			\n				\n				Location per Heroes\, meet in Maratea\n				\n			\n				\n			\n				\n				Location per Heroes\, meet in Maratea\n				\n			\n				\n			\n				\n				Riccardo FALLACARA\, speaker BFP per Heroes\n				\n			\n				\n			\n				\n				Riccardo FALLACARA\, speaker BFP per Heroes\n				\n			\n				\n			\n				\n				Location per Heroes\, meet in Maratea\n				\n			\n				\n			\n				\n				Location per Heroes\, meet in Maratea\n				\n			\n				\n			\n				\n				Location per Heroes\, meet in Maratea
URL:http://bitcoin-puglia.org/?tribe_events=heroes-meet-in-maratea
LOCATION:Maratea\, C.da Santa Caterina\, 50\, Maratea\, PZ\, 85046\, Italia
CATEGORIES:Convegno
ATTACH;FMTTYPE=image/png:http://bitcoin-puglia.org/wp-content/uploads/2019/09/heroes.png
END:VEVENT
END:VCALENDAR