BEGIN:VCALENDAR
VERSION:2.0
PRODID:-//Bitcoin Foundation Puglia - ECPv5.16.1.1//NONSGML v1.0//EN
CALSCALE:GREGORIAN
METHOD:PUBLISH
X-WR-CALNAME:Bitcoin Foundation Puglia
X-ORIGINAL-URL:http://bitcoin-puglia.org
X-WR-CALDESC:Eventi per Bitcoin Foundation Puglia
BEGIN:VTIMEZONE
TZID:Europe/Paris
BEGIN:DAYLIGHT
TZOFFSETFROM:+0100
TZOFFSETTO:+0200
TZNAME:CEST
DTSTART:20190331T010000
END:DAYLIGHT
BEGIN:STANDARD
TZOFFSETFROM:+0200
TZOFFSETTO:+0100
TZNAME:CET
DTSTART:20191027T010000
END:STANDARD
END:VTIMEZONE
BEGIN:VEVENT
DTSTART;TZID=Europe/Paris:20190213T153000
DTEND;TZID=Europe/Paris:20190213T183000
DTSTAMP:20260420T092402
CREATED:20190207T214205Z
LAST-MODIFIED:20190207T214205Z
UID:870-1550071800-1550082600@bitcoin-puglia.org
SUMMARY:Diritto e innovazione: Blockchain\, Bitcoin e Smart Contract
DESCRIPTION:Le associazioni Studenti Per Giurisprudenza\, Bitcoin Foundation Puglia\, Alumni Mathematica e PER l’Impresa sono liete di invitarvi al loro prossimo evento Diritto e innovazione: Blockchain\, Bitcoin e Smart Contract! \nDi cosa parleremo?\nDiscuteremo e cercheremo di capire cosa siano Blockchain\, Bitcoin e Smart Contract\, come siano nati e quale sia il loro futuro nell’ambito informatico\,giuridico ed economico. \nIntroduce e modera\n\nMichele Mattia Moschetti  (Rappresentante degli Studenti)\n\nIntervengono\n\nIng.Vito Pesola (Alumni mathematica) – “Blockchain\,nozioni di base e differenze con altri sistemi di pagamento elettronici”\nAvv.Giuseppe Grisorio (Presidente Bitcoin Foundation Puglia) – “Breve storia delle valute virtuali ed inquadramento giuridico: dalla lex mercatoria alla lex criptographica”\nProf.Luigi Iacobellis (Docente di Diritto Tributario) – “Le criptovalute tra nuove forme di capacità contributiva e imposizione fiscale”\nProf.ssa Claudia Morgana Cascione (Docente di Diritto Privato Comparato) – “Are Smart Contracts real contracts?”\n\nL’iscrizione\nL’evento è gratuito. Puoi iscriverti QUI. \n 
URL:http://bitcoin-puglia.org/?tribe_events=diritto-e-innovazione-blockchain-bitcoin-e-smart-contract
LOCATION:Aula Contento\, Facoltà di Giurisprudenza\, Università degli Studi di Bari\, Piazza Cesare Battisti\, Bari\, Italia
ATTACH;FMTTYPE=image/jpeg:http://bitcoin-puglia.org/wp-content/uploads/2019/02/13-02-2019-Blockchain-Technology-Locandina.jpg
END:VEVENT
END:VCALENDAR