BEGIN:VCALENDAR
VERSION:2.0
PRODID:-//Bitcoin Foundation Puglia - ECPv5.16.1.1//NONSGML v1.0//EN
CALSCALE:GREGORIAN
METHOD:PUBLISH
X-WR-CALNAME:Bitcoin Foundation Puglia
X-ORIGINAL-URL:http://bitcoin-puglia.org
X-WR-CALDESC:Eventi per Bitcoin Foundation Puglia
BEGIN:VTIMEZONE
TZID:Europe/Paris
BEGIN:DAYLIGHT
TZOFFSETFROM:+0100
TZOFFSETTO:+0200
TZNAME:CEST
DTSTART:20180325T010000
END:DAYLIGHT
BEGIN:STANDARD
TZOFFSETFROM:+0200
TZOFFSETTO:+0100
TZNAME:CET
DTSTART:20181028T010000
END:STANDARD
END:VTIMEZONE
BEGIN:VEVENT
DTSTART;TZID=Europe/Paris:20181124T180000
DTEND;TZID=Europe/Paris:20181124T203000
DTSTAMP:20260420T002614
CREATED:20181125T191059Z
LAST-MODIFIED:20181125T191059Z
UID:836-1543082400-1543091400@bitcoin-puglia.org
SUMMARY:CryptoAperitivo 24 Novembre a Molfetta
DESCRIPTION:Dopo il CryptoFest tenutosi a Cassano delle Murge\, questa volta la BFP si sposterà verso il nord della Puglia per gli ultimi aggiornamenti in materia di Cryptocurrencies e Blockchain Technology. Particolare attenzione sarà rivolta ai fork in arrivo! Che ne pensate? \nNe parliamo insieme sabato 24 novembre\, alle 18.00\, presso MINI Bar (Molfetta). Get on board! \nPer permetterci di prenotare il tavolo la prenotazione è obbligatoria sulla pagina Facebook dell’evento.\nMenù fisso da dieci euro + bevanda \n  \n\n		\n		\n			\n				\n			\n				\n				24-11-2018 Cryptoaperitivo\n				\n			\n				\n			\n				\n				24-11-2018 Cryptoaperitivo a Molfetta – La locandina\n				\n		\n\n 
URL:http://bitcoin-puglia.org/?tribe_events=cryptoaperitivo-24-novembre-a-molfetta
LOCATION:Mini Bar Garden Bistrot\, Via Giovinazzo 6\, Molfetta\, 70056\, Italia
ATTACH;FMTTYPE=image/jpeg:http://bitcoin-puglia.org/wp-content/uploads/2018/11/24-11-2018-cryptoaperitivo-locandina.jpg
END:VEVENT
END:VCALENDAR