BEGIN:VCALENDAR
VERSION:2.0
PRODID:-//Bitcoin Foundation Puglia - ECPv5.16.1.1//NONSGML v1.0//EN
CALSCALE:GREGORIAN
METHOD:PUBLISH
X-WR-CALNAME:Bitcoin Foundation Puglia
X-ORIGINAL-URL:http://bitcoin-puglia.org
X-WR-CALDESC:Eventi per Bitcoin Foundation Puglia
BEGIN:VTIMEZONE
TZID:Europe/Paris
BEGIN:DAYLIGHT
TZOFFSETFROM:+0100
TZOFFSETTO:+0200
TZNAME:CEST
DTSTART:20190331T010000
END:DAYLIGHT
BEGIN:STANDARD
TZOFFSETFROM:+0200
TZOFFSETTO:+0100
TZNAME:CET
DTSTART:20191027T010000
END:STANDARD
END:VTIMEZONE
BEGIN:VEVENT
DTSTART;TZID=Europe/Paris:20190822T200000
DTEND;TZID=Europe/Paris:20190822T233000
DTSTAMP:20260421T005416
CREATED:20190825T075730Z
LAST-MODIFIED:20190825T075730Z
UID:1021-1566504000-1566516600@bitcoin-puglia.org
SUMMARY:CryptoAperitivo!
DESCRIPTION:Ritorna l’appuntamento con il Cryptoaperitivo a Cassano delle Murge\, paese di origine della BFP e casa della Festa della birra per tutto il mese di Agosto. \nTi aspettiamo giovedi 22\, alle ore 20.00 presso l’Aia dell’Amicizia! \nChe fai\, vieni? 🍻😁🍻 \nN.B: per permetterci di prenotare il tavolo la conferma è obbligatoria sulla pagina Facebook dell’evento!
URL:http://bitcoin-puglia.org/?tribe_events=cryptoaperitivo-2
LOCATION:Festa della Birra\, Contrada Cristo Fasano\, 162\, Cassano delle Murge\, 70020\, Italia
ATTACH;FMTTYPE=image/jpeg:http://bitcoin-puglia.org/wp-content/uploads/2019/08/cryptoaperitivo-agosto.jpg
END:VEVENT
END:VCALENDAR