BEGIN:VCALENDAR
VERSION:2.0
PRODID:-//Bitcoin Foundation Puglia - ECPv5.16.1.1//NONSGML v1.0//EN
CALSCALE:GREGORIAN
METHOD:PUBLISH
X-WR-CALNAME:Bitcoin Foundation Puglia
X-ORIGINAL-URL:http://bitcoin-puglia.org
X-WR-CALDESC:Eventi per Bitcoin Foundation Puglia
BEGIN:VTIMEZONE
TZID:Europe/Paris
BEGIN:DAYLIGHT
TZOFFSETFROM:+0100
TZOFFSETTO:+0200
TZNAME:CEST
DTSTART:20200329T010000
END:DAYLIGHT
BEGIN:STANDARD
TZOFFSETFROM:+0200
TZOFFSETTO:+0100
TZNAME:CET
DTSTART:20201025T010000
END:STANDARD
END:VTIMEZONE
BEGIN:VEVENT
DTSTART;TZID=Europe/Paris:20200702T183000
DTEND;TZID=Europe/Paris:20200702T200000
DTSTAMP:20260423T155522
CREATED:20200624T162818Z
LAST-MODIFIED:20200624T162818Z
UID:1396-1593714600-1593720000@bitcoin-puglia.org
SUMMARY:Blockchain&dintorni: Smart contract
DESCRIPTION:
URL:http://bitcoin-puglia.org/?tribe_events=blockchaindintorni-smart-contract
END:VEVENT
END:VCALENDAR