BEGIN:VCALENDAR
VERSION:2.0
PRODID:-//Bitcoin Foundation Puglia - ECPv5.16.1.1//NONSGML v1.0//EN
CALSCALE:GREGORIAN
METHOD:PUBLISH
X-WR-CALNAME:Bitcoin Foundation Puglia
X-ORIGINAL-URL:http://bitcoin-puglia.org
X-WR-CALDESC:Eventi per Bitcoin Foundation Puglia
BEGIN:VTIMEZONE
TZID:Europe/Paris
BEGIN:DAYLIGHT
TZOFFSETFROM:+0100
TZOFFSETTO:+0200
TZNAME:CEST
DTSTART:20200329T010000
END:DAYLIGHT
BEGIN:STANDARD
TZOFFSETFROM:+0200
TZOFFSETTO:+0100
TZNAME:CET
DTSTART:20201025T010000
END:STANDARD
END:VTIMEZONE
BEGIN:VEVENT
DTSTART;TZID=Europe/Paris:20200604T183000
DTEND;TZID=Europe/Paris:20200604T193000
DTSTAMP:20260423T142055
CREATED:20200624T162647Z
LAST-MODIFIED:20200624T162647Z
UID:1394-1591295400-1591299000@bitcoin-puglia.org
SUMMARY:Blockchain&dintorni: E-commerce e crypto pagamenti
DESCRIPTION:Molte sono le aziende che in questo periodo di pandemia si sono avvicinate all’ecommerce\, scoprendo o riscoprendo il canale web come strumento per entrare in contatto con il cliente finale.\nE-commerce e crypto pagamenti possono andare di pari passo\, aprendo scenari interessanti per commercianti\, web agency e developer ancora troppo legati al commercio “tradizionale”.\nCon questo obiettivo abbiamo chiesto a Lorenzo Giustozzi\, founder di Chainside e Presidente Blockchain Education Network e Federico Tenga\, co-founder di Chainside di presentarci lo stato dell’arte\, ponendo l’accento sulle potenzialità e sugli sviluppi futuri di questa tipologia di sistemi di pagamento. \nGLI SPEAKER:\nLorenzo Giustozzi\, founder di Chainside e Presidente Blockchain Education Network e Federico Tenga\, co-founder di Chainside
URL:http://bitcoin-puglia.org/?tribe_events=blockchaindintorni-e-commerce-e-crypto-pagamenti
END:VEVENT
END:VCALENDAR