BEGIN:VCALENDAR
VERSION:2.0
PRODID:-//Bitcoin Foundation Puglia - ECPv5.16.1.1//NONSGML v1.0//EN
CALSCALE:GREGORIAN
METHOD:PUBLISH
X-WR-CALNAME:Bitcoin Foundation Puglia
X-ORIGINAL-URL:http://bitcoin-puglia.org
X-WR-CALDESC:Eventi per Bitcoin Foundation Puglia
BEGIN:VTIMEZONE
TZID:Europe/Paris
BEGIN:DAYLIGHT
TZOFFSETFROM:+0100
TZOFFSETTO:+0200
TZNAME:CEST
DTSTART:20190331T010000
END:DAYLIGHT
BEGIN:STANDARD
TZOFFSETFROM:+0200
TZOFFSETTO:+0100
TZNAME:CET
DTSTART:20191027T010000
END:STANDARD
END:VTIMEZONE
BEGIN:VEVENT
DTSTART;TZID=Europe/Paris:20190207T183000
DTEND;TZID=Europe/Paris:20190207T220000
DTSTAMP:20260420T073906
CREATED:20190207T210951Z
LAST-MODIFIED:20190207T221011Z
UID:863-1549564200-1549576800@bitcoin-puglia.org
SUMMARY:Blockchain e Dintorni: Doppio Talk!
DESCRIPTION:Giovedì 7 Febbraio\, come ogni primo giovedì del mese\, si terrà l’incontro Blockchain e dintorni! \nQuesta volta ci aspetta il doppio talk! \n\nAntonio Manno ci presenterà “La prasseologia come epistemologia di Bitcoin”. Scopriremo le origini di Bitcoin esplorando i concetti della scuola Austriaca di Economia come scienza che studia il comportamento dell’uomo.\nRiccardo Fallacara ci parlerà del protocollo Mimbewimble e delle nuove privacy coin che lo implementano (Grin e Beam)\n\nL’iscrizione\nL’evento è gratuito. Puoi iscriverti QUI. \nChe cos’è questo meetup?\nBlockchain e dintorni è un incontro fisso mensile ogni primo Giovedì del Mese\, presso l’HACKspace X di auLAB in collaborazione con Bitcoin Foundation Puglia. Per parlare di innovazione e possibili utilizzi concreti delle tecnologie basate su blockchain. \nCall for proposals\nCome proporre un proprio intervento ? Sul gruppo FB ogni mese ci sarà una “call for proposal”. Con un semplice commento si può proporre un’argomento\, l’argomento piò votato coi like verrà presentato all’incontro successivo.
URL:http://bitcoin-puglia.org/?tribe_events=blockchain-e-dintorni-doppio-talk
LOCATION:auLAB – Hack-space X\, Strada San Giorgio Martire\, 2D\, Bari\, BA\, 70124\, Italia
ATTACH;FMTTYPE=image/jpeg:http://bitcoin-puglia.org/wp-content/uploads/2019/02/07-02-2019-Blockchain-e-Dintorni.jpg
END:VEVENT
END:VCALENDAR