BEGIN:VCALENDAR
VERSION:2.0
PRODID:-//Bitcoin Foundation Puglia - ECPv5.16.1.1//NONSGML v1.0//EN
CALSCALE:GREGORIAN
METHOD:PUBLISH
X-WR-CALNAME:Bitcoin Foundation Puglia
X-ORIGINAL-URL:http://bitcoin-puglia.org
X-WR-CALDESC:Eventi per Bitcoin Foundation Puglia
BEGIN:VTIMEZONE
TZID:Europe/Paris
BEGIN:DAYLIGHT
TZOFFSETFROM:+0100
TZOFFSETTO:+0200
TZNAME:CEST
DTSTART:20200329T010000
END:DAYLIGHT
BEGIN:STANDARD
TZOFFSETFROM:+0200
TZOFFSETTO:+0100
TZNAME:CET
DTSTART:20201025T010000
END:STANDARD
END:VTIMEZONE
BEGIN:VEVENT
DTSTART;TZID=Europe/Paris:20200305T183000
DTEND;TZID=Europe/Paris:20200305T203000
DTSTAMP:20260421T223938
CREATED:20200227T164110Z
LAST-MODIFIED:20200227T164110Z
UID:1318-1583433000-1583440200@bitcoin-puglia.org
SUMMARY:Blockchain & dintorni: Storia di Bitcoin - nascita ed evoluzione
DESCRIPTION:Il 3 gennaio 2009 veniva minato il primo blocco di bitcoin. Da allora sono passati dieci anni ricchi di storia e aneddoti tutti da raccontare.\nPer questo durante il meetup di Marzo abbiamo deciso di ripercorrere la storia di Bitcoin. \nLo speaker: Giancarlo Valente Co-founder e Responsabile delle strategie dell’innovazione per Aulab Srl.\nResponsabile didattico per il programma di formazione Hackademy\, coding bootcamp di tre mesi giunto alla 14a edizione.\nEsperienza ventennale nell’ambito dello sviluppo software. Esperto e Coach di Metodologie Agili per lo sviluppo di software innovativi.\nMolto attivo nella scena delle comunità tech in Puglia come: fondatore del “Blockchain e dintorni” meetup Puglia\, socio di Bitcoin Foundation Puglia\, co-fondatore del Club Sviluppatori Puglia\, Agile Puglia\, co-organizzatore di Startup weekend e speaker ricorrente negli eventi organizzati.
URL:http://bitcoin-puglia.org/?tribe_events=blockchain-dintorni-storia-di-bitcoin-nascita-ed-evoluzione
LOCATION:auLAB – Hack-space X\, Strada San Giorgio Martire\, 2D\, Bari\, BA\, 70124\, Italia
CATEGORIES:Convegno
END:VEVENT
END:VCALENDAR