BEGIN:VCALENDAR
VERSION:2.0
PRODID:-//Bitcoin Foundation Puglia - ECPv5.16.1.1//NONSGML v1.0//EN
CALSCALE:GREGORIAN
METHOD:PUBLISH
X-WR-CALNAME:Bitcoin Foundation Puglia
X-ORIGINAL-URL:http://bitcoin-puglia.org
X-WR-CALDESC:Eventi per Bitcoin Foundation Puglia
BEGIN:VTIMEZONE
TZID:Europe/Paris
BEGIN:DAYLIGHT
TZOFFSETFROM:+0100
TZOFFSETTO:+0200
TZNAME:CEST
DTSTART:20190331T010000
END:DAYLIGHT
BEGIN:STANDARD
TZOFFSETFROM:+0200
TZOFFSETTO:+0100
TZNAME:CET
DTSTART:20191027T010000
END:STANDARD
END:VTIMEZONE
BEGIN:VEVENT
DTSTART;TZID=Europe/Paris:20190801T190000
DTEND;TZID=Europe/Paris:20190801T210000
DTSTAMP:20260420T225402
CREATED:20190729T195255Z
LAST-MODIFIED:20190729T200243Z
UID:999-1564686000-1564693200@bitcoin-puglia.org
SUMMARY:Blockchain & dintorni: Scamcoin - riconoscerle per difendersi
DESCRIPTION:L’Avv. Giuseppe Grisorio\, presidente dell’associazione Bitcoin Foundation Puglia ci parlerà di Scamcoin: Riconoscerle per difendersi. \nNon mancare!!!
URL:http://bitcoin-puglia.org/?tribe_events=blockchain-dintorni-scamcoin-riconoscerle-per-difendersi
LOCATION:auLAB – Hack-space X\, Strada San Giorgio Martire\, 2D\, Bari\, BA\, 70124\, Italia
CATEGORIES:Convegno
ATTACH;FMTTYPE=image/jpeg:http://bitcoin-puglia.org/wp-content/uploads/2019/07/agosto.jpg
END:VEVENT
END:VCALENDAR