BEGIN:VCALENDAR
VERSION:2.0
PRODID:-//Bitcoin Foundation Puglia - ECPv5.16.1.1//NONSGML v1.0//EN
CALSCALE:GREGORIAN
METHOD:PUBLISH
X-WR-CALNAME:Bitcoin Foundation Puglia
X-ORIGINAL-URL:http://bitcoin-puglia.org
X-WR-CALDESC:Eventi per Bitcoin Foundation Puglia
BEGIN:VTIMEZONE
TZID:Europe/Paris
BEGIN:DAYLIGHT
TZOFFSETFROM:+0100
TZOFFSETTO:+0200
TZNAME:CEST
DTSTART:20200329T010000
END:DAYLIGHT
BEGIN:STANDARD
TZOFFSETFROM:+0200
TZOFFSETTO:+0100
TZNAME:CET
DTSTART:20201025T010000
END:STANDARD
END:VTIMEZONE
BEGIN:VEVENT
DTSTART;TZID=Europe/Paris:20200102T183000
DTEND;TZID=Europe/Paris:20200102T203000
DTSTAMP:20260421T175835
CREATED:20191221T101236Z
LAST-MODIFIED:20191221T101236Z
UID:1298-1577989800-1577997000@bitcoin-puglia.org
SUMMARY:Blockchain & dintorni: Obiettivi 2020
DESCRIPTION:🎉 Ci vediamo il 2 Gennaio dalle ore 19.00 per farci gli auguri e discutere degli obiettivi raggiunti e di quelli futuri di questo splendido Meetup! \nMi raccomando: non perdete l’occasione di partecipare in modo attivo alla crescita ed evoluzione di questo gruppo 🚀
URL:http://bitcoin-puglia.org/?tribe_events=blockchain-dintorni-obiettivi-2020
LOCATION:auLAB – Hack-space X\, Strada San Giorgio Martire\, 2D\, Bari\, BA\, 70124\, Italia
CATEGORIES:Convegno
ATTACH;FMTTYPE=image/jpeg:http://bitcoin-puglia.org/wp-content/uploads/2019/12/gennaio.jpg
END:VEVENT
END:VCALENDAR