BEGIN:VCALENDAR
VERSION:2.0
PRODID:-//Bitcoin Foundation Puglia - ECPv5.16.1.1//NONSGML v1.0//EN
CALSCALE:GREGORIAN
METHOD:PUBLISH
X-WR-CALNAME:Bitcoin Foundation Puglia
X-ORIGINAL-URL:http://bitcoin-puglia.org
X-WR-CALDESC:Eventi per Bitcoin Foundation Puglia
BEGIN:VTIMEZONE
TZID:Europe/Paris
BEGIN:DAYLIGHT
TZOFFSETFROM:+0100
TZOFFSETTO:+0200
TZNAME:CEST
DTSTART:20190331T010000
END:DAYLIGHT
BEGIN:STANDARD
TZOFFSETFROM:+0200
TZOFFSETTO:+0100
TZNAME:CET
DTSTART:20191027T010000
END:STANDARD
END:VTIMEZONE
BEGIN:VEVENT
DTSTART;TZID=Europe/Paris:20191107T183000
DTEND;TZID=Europe/Paris:20191107T203000
DTSTAMP:20260421T101354
CREATED:20191018T181810Z
LAST-MODIFIED:20191109T212326Z
UID:1181-1573151400-1573158600@bitcoin-puglia.org
SUMMARY:Blockchain & dintorni: "Mastering EOS"
DESCRIPTION:Il prossimo appuntamento con la Blockchain a Bari sarà una grande occasione per assistere alla presentazione del volume “Mastering EOS – Guida pratica per principianti e non” scritto dall’esordiente Alfredo De Candia\, anche autore presso il giornale online The Cryptonomist. \nL’autore sarà presente all’evento per spiegare ed illustrare la blockchain di EOS\, fornendo tutte le informazioni e gli strumenti indispensabili per poter operare con la stessa. \nCome sempre tutti potranno intervenire e porre domande sul tema crypto! \nIndice della presentazione:\n– Cos’è EOS\n– Come funziona EOS\n– Sviluppo EOS\n– Aspetti positivi di EOS\n– Aspetti negativi di EOS \n“Mastering EOS – Guida pratica per principianti e non” \n\nIl libro non è altro che un manuale pratico e scritto in maniera semplice\, che racchiude in sé tutti i passaggi necessari e fondamentali per comprendere come funziona la blockchain di EOS\, dalla creazione di un address fino alla realizzazione dello smart contract Hello World! \nNon mancate! \nauLAB & Bitcoin Foundation Puglia \n  \nCOMUNICATO STAMPA pubblicato su Cryptonomist.ch \nhttps://cryptonomist.ch/2019/10/10/mastering-eos/
URL:http://bitcoin-puglia.org/?tribe_events=blockchain-dintorni-mastering-eos
LOCATION:auLAB – Hack-space X\, Strada San Giorgio Martire\, 2D\, Bari\, BA\, 70124\, Italia
ATTACH;FMTTYPE=image/jpeg:http://bitcoin-puglia.org/wp-content/uploads/2019/10/novembre.jpg
END:VEVENT
END:VCALENDAR