BEGIN:VCALENDAR
VERSION:2.0
PRODID:-//Bitcoin Foundation Puglia - ECPv5.16.1.1//NONSGML v1.0//EN
CALSCALE:GREGORIAN
METHOD:PUBLISH
X-WR-CALNAME:Bitcoin Foundation Puglia
X-ORIGINAL-URL:http://bitcoin-puglia.org
X-WR-CALDESC:Eventi per Bitcoin Foundation Puglia
BEGIN:VTIMEZONE
TZID:Europe/Paris
BEGIN:DAYLIGHT
TZOFFSETFROM:+0100
TZOFFSETTO:+0200
TZNAME:CEST
DTSTART:20200329T010000
END:DAYLIGHT
BEGIN:STANDARD
TZOFFSETFROM:+0200
TZOFFSETTO:+0100
TZNAME:CET
DTSTART:20201025T010000
END:STANDARD
END:VTIMEZONE
BEGIN:VEVENT
DTSTART;TZID=Europe/Paris:20200402T183000
DTEND;TZID=Europe/Paris:20200402T200000
DTSTAMP:20260422T003010
CREATED:20200405T131235Z
LAST-MODIFIED:20200405T131944Z
UID:1337-1585852200-1585857600@bitcoin-puglia.org
SUMMARY:Blockchain & dintorni: DE.FI Halving ed Exchange in ambito Tax&Law
DESCRIPTION:Giovedi 2 Aprile 2020 solo ONLINE! \nIl Meetup Blockchain non si ferma\, e da questo mese fino a quando l’emergenza non sarà rientrata proseguirà in modalità completamente online e verrà trasmesso in streaming sulla pagina facebook di Aulab e sul canale youtube di Bitcoin Foundation Puglia! \nGiovedì 2 Aprile Paolo Luigi Burlone e Stefano Capaccioli\, introdotti da Riccardo Fallacara\, ci parleranno di “De.Fi. Halving &exchange con riferimento alla situazione legale”. \nSe ti sei perso la diretta del meetup\, puoi riguardarlo sul nostro canale YouTube
URL:http://bitcoin-puglia.org/?tribe_events=blockchain-dintorni-de-fi-halving-ed-exchange-in-ambito-taxlaw
CATEGORIES:Convegno
END:VEVENT
END:VCALENDAR