BEGIN:VCALENDAR
VERSION:2.0
PRODID:-//Bitcoin Foundation Puglia - ECPv5.16.1.1//NONSGML v1.0//EN
CALSCALE:GREGORIAN
METHOD:PUBLISH
X-WR-CALNAME:Bitcoin Foundation Puglia
X-ORIGINAL-URL:http://bitcoin-puglia.org
X-WR-CALDESC:Eventi per Bitcoin Foundation Puglia
BEGIN:VTIMEZONE
TZID:Europe/Paris
BEGIN:DAYLIGHT
TZOFFSETFROM:+0100
TZOFFSETTO:+0200
TZNAME:CEST
DTSTART:20190331T010000
END:DAYLIGHT
BEGIN:STANDARD
TZOFFSETFROM:+0200
TZOFFSETTO:+0100
TZNAME:CET
DTSTART:20191027T010000
END:STANDARD
END:VTIMEZONE
BEGIN:VEVENT
DTSTART;TZID=Europe/Paris:20190606T183000
DTEND;TZID=Europe/Paris:20190606T210000
DTSTAMP:20260420T193521
CREATED:20190622T173505Z
LAST-MODIFIED:20190622T173505Z
UID:986-1559845800-1559854800@bitcoin-puglia.org
SUMMARY:Blockchain & dintorni: Blockchain Internals\, dalla teoria al Python
DESCRIPTION:Giovedì 6 giugno\, come ogni primo giovedi del mese\, il meetup Blockchain&dintorni è stato un successo. \nNicole Costantino ci ha presentato un talk dal titolo “Blockchain Internals: dalla teoria al Python. Analisi degli elementi di una blockchain e implementazioni di esempio”. \nTutto il materiale inerente il meetup è disponibile facendo click QUI
URL:http://bitcoin-puglia.org/?tribe_events=blockchain-dintorni-blockchain-internals-dalla-teoria-al-python
LOCATION:auLAB – Hack-space X\, Strada San Giorgio Martire\, 2D\, Bari\, BA\, 70124\, Italia
CATEGORIES:Convegno
ATTACH;FMTTYPE=image/jpeg:http://bitcoin-puglia.org/wp-content/uploads/2019/06/python.jpg
END:VEVENT
END:VCALENDAR