BEGIN:VCALENDAR
VERSION:2.0
PRODID:-//Bitcoin Foundation Puglia - ECPv5.16.1.1//NONSGML v1.0//EN
CALSCALE:GREGORIAN
METHOD:PUBLISH
X-WR-CALNAME:Bitcoin Foundation Puglia
X-ORIGINAL-URL:http://bitcoin-puglia.org
X-WR-CALDESC:Eventi per Bitcoin Foundation Puglia
BEGIN:VTIMEZONE
TZID:Europe/Paris
BEGIN:DAYLIGHT
TZOFFSETFROM:+0100
TZOFFSETTO:+0200
TZNAME:CEST
DTSTART:20190331T010000
END:DAYLIGHT
BEGIN:STANDARD
TZOFFSETFROM:+0200
TZOFFSETTO:+0100
TZNAME:CET
DTSTART:20191027T010000
END:STANDARD
END:VTIMEZONE
BEGIN:VEVENT
DTSTART;TZID=Europe/Paris:20190905T183000
DTEND;TZID=Europe/Paris:20190905T210000
DTSTAMP:20260421T023715
CREATED:20190825T074901Z
LAST-MODIFIED:20190904T130949Z
UID:1016-1567708200-1567717200@bitcoin-puglia.org
SUMMARY:Blockchain & dintorni: Bitcoin Internals\, bitcoin script!
DESCRIPTION:Settembre inizia alla grande: Giancarlo Valente terrà un talk dal titolo “Bitcoin internals: Bitcoin script” 🚀🚀🚀 \nNon mancare il primo giovedì del mese\, come sempre alle ore 18.30 circa\, presso gli amici di auLAB!!! \nN.B. Puoi confermare la tua partecipazione cliccando sulla pagina facebook dell’evento \nL’evento è gratuito ed aperto a tutti. \nauLAB & Bitcoin Foundation Puglia
URL:http://bitcoin-puglia.org/?tribe_events=blockchain-dintorni-bitcoin-internals-bitcoin-script
LOCATION:auLAB – Hack-space X\, Strada San Giorgio Martire\, 2D\, Bari\, BA\, 70124\, Italia
CATEGORIES:Convegno
ATTACH;FMTTYPE=image/jpeg:http://bitcoin-puglia.org/wp-content/uploads/2019/08/meet-settembre.jpg
END:VEVENT
END:VCALENDAR