BEGIN:VCALENDAR
VERSION:2.0
PRODID:-//Bitcoin Foundation Puglia - ECPv5.16.1.1//NONSGML v1.0//EN
CALSCALE:GREGORIAN
METHOD:PUBLISH
X-WR-CALNAME:Bitcoin Foundation Puglia
X-ORIGINAL-URL:http://bitcoin-puglia.org
X-WR-CALDESC:Eventi per Bitcoin Foundation Puglia
BEGIN:VTIMEZONE
TZID:Europe/Paris
BEGIN:DAYLIGHT
TZOFFSETFROM:+0100
TZOFFSETTO:+0200
TZNAME:CEST
DTSTART:20190331T010000
END:DAYLIGHT
BEGIN:STANDARD
TZOFFSETFROM:+0200
TZOFFSETTO:+0100
TZNAME:CET
DTSTART:20191027T010000
END:STANDARD
END:VTIMEZONE
BEGIN:VEVENT
DTSTART;TZID=Europe/Paris:20190503T170000
DTEND;TZID=Europe/Paris:20190503T210000
DTSTAMP:20260420T180538
CREATED:20190420T135433Z
LAST-MODIFIED:20190502T205948Z
UID:943-1556902800-1556917200@bitcoin-puglia.org
SUMMARY:Blockchain: a decentralized Revolution
DESCRIPTION:TEDxBari & Bitcoin Foundation Puglia portano in città la rivoluzione decentralizzata della tecnologia Blockchain: quella che regge la moneta virtuale Bitcoin\, per intenderci\, ma non solo. \nL’appuntamento è venerdì 3 maggio alle ore 17 all’Impact Hub Bari vi racconteremo basi e applicazioni\, potenzialità e rischi di questa tecnologia. Si parlerà di mining\, di peer-to-peer\, di crittografia\, di dark web e ovviamente di Bitcoin e di tutte le altre monete virtuali. \nA differenza del classico TEDxBari\, l’evento Salon prevede l’interazione e il dibattito con gli speaker – le idee che vale la pena diffondere correranno libere nella sala! \nPrenota il tuo posto gratuito qui: https://www.eventbrite.it/e/biglietti-blockchain-a-decentralized-revolution-60626277829?utm-medium=discovery&utm-campaign=social&utm-content=
URL:http://bitcoin-puglia.org/?tribe_events=blockchain-a-decentralized-revolution
LOCATION:Impact Hub\, via Volga c/o Fiera del Levante \, pad 129\, Bari\, 70123\, Italia
CATEGORIES:Convegno
ATTACH;FMTTYPE=image/jpeg:http://bitcoin-puglia.org/wp-content/uploads/2019/04/tedxBari2019.jpg
END:VEVENT
END:VCALENDAR