BEGIN:VCALENDAR
VERSION:2.0
PRODID:-//Bitcoin Foundation Puglia - ECPv5.16.1.1//NONSGML v1.0//EN
CALSCALE:GREGORIAN
METHOD:PUBLISH
X-WR-CALNAME:Bitcoin Foundation Puglia
X-ORIGINAL-URL:http://bitcoin-puglia.org
X-WR-CALDESC:Eventi per Bitcoin Foundation Puglia
BEGIN:VTIMEZONE
TZID:Europe/Paris
BEGIN:DAYLIGHT
TZOFFSETFROM:+0100
TZOFFSETTO:+0200
TZNAME:CEST
DTSTART:20200329T010000
END:DAYLIGHT
BEGIN:STANDARD
TZOFFSETFROM:+0200
TZOFFSETTO:+0100
TZNAME:CET
DTSTART:20201025T010000
END:STANDARD
END:VTIMEZONE
BEGIN:VEVENT
DTSTART;TZID=Europe/Paris:20200507T183000
DTEND;TZID=Europe/Paris:20200507T200000
DTSTAMP:20260423T123357
CREATED:20200405T131340Z
LAST-MODIFIED:20200503T195155Z
UID:1339-1588876200-1588881600@bitcoin-puglia.org
SUMMARY:Blockchain&dintorni: DE.FI. scenari futuri
DESCRIPTION:Giovedi 7 Maggio 2020 solo ONLINE! \nIl Meetup Blockchain non si ferma\, e da questo mese fino a quando l’emergenza non sarà rientrata proseguirà in modalità completamente ONLINE e verrà trasmesso in streaming sulla pagina facebook di Aulab e sul canale youtube di Bitcoin Foundation Puglia! \nGiovedì 7 maggio parleremo di “De.Fi. Scenari futuri” con Alfredo de Candia \nLO SPEAKER:\nAlfredo De Candia\nDivulgatore e collaboratore per testate come Cryptonomist\, ha coltivato la sua passione per le nuove tecnologie\napplicate in diversi settori affacciandosi a diverse realtà come quella dello sviluppo Android e della tecnologia blockchain.\nNel 2019 pubblica il manuale “Mastering EOS – Guida pratica per principianti e non”\, unico volume che tratta l’argomento in maniera approfondita.
URL:http://bitcoin-puglia.org/?tribe_events=1339
CATEGORIES:Convegno
ATTACH;FMTTYPE=image/jpeg:http://bitcoin-puglia.org/wp-content/uploads/2020/04/070520.jpg
END:VEVENT
END:VCALENDAR